BEGIN:VCALENDAR
VERSION:2.0
PRODID:-//Rangeworthy Parish Council//Meeting Calendar//EN
CALSCALE:GREGORIAN
METHOD:PUBLISH
BEGIN:VEVENT
UID:70693-20260508@rangeworthyparishcouncil.gov.uk
DTSTAMP:20260423T114549Z
DTSTART;VALUE=DATE:20260508
DTEND;VALUE=DATE:20260509
SUMMARY:Annual Parish Meeting
DESCRIPTION:Annual Parish Meeting\nView details: https://rangeworthyparishcouncil.gov.uk/meetings/meeting-name-here-3/
URL:https://rangeworthyparishcouncil.gov.uk/meetings/meeting-name-here-3/
END:VEVENT
END:VCALENDAR
