BEGIN:VCALENDAR
VERSION:2.0
PRODID:-//Rangeworthy Parish Council//Meeting Calendar//EN
CALSCALE:GREGORIAN
METHOD:PUBLISH
BEGIN:VEVENT
UID:70689-20260307@rangeworthyparishcouncil.gov.uk
DTSTAMP:20260421T083256Z
DTSTART;VALUE=DATE:20260307
DTEND;VALUE=DATE:20260308
SUMMARY:April Full Council Meeting
DESCRIPTION:Full Council Meeting\nView details: https://rangeworthyparishcouncil.gov.uk/meetings/april-full-council-meeting/
URL:https://rangeworthyparishcouncil.gov.uk/meetings/april-full-council-meeting/
END:VEVENT
END:VCALENDAR
