BEGIN:VCALENDAR
VERSION:2.0
PRODID:-//Rangeworthy Parish Council//Meeting Calendar//EN
CALSCALE:GREGORIAN
METHOD:PUBLISH
BEGIN:VEVENT
UID:70684-20260303@rangeworthyparishcouncil.gov.uk
DTSTAMP:20260421T083116Z
DTSTART;VALUE=DATE:20260303
DTEND;VALUE=DATE:20260304
SUMMARY:Full Council Meeting March 2026
DESCRIPTION:Full Council Meeting\nView details: https://rangeworthyparishcouncil.gov.uk/meetings/full-council-meeting-march-2026/
URL:https://rangeworthyparishcouncil.gov.uk/meetings/full-council-meeting-march-2026/
END:VEVENT
END:VCALENDAR
