BEGIN:VCALENDAR
VERSION:2.0
PRODID:-//Rangeworthy Parish Council//Meeting Calendar//EN
CALSCALE:GREGORIAN
METHOD:PUBLISH
BEGIN:VEVENT
UID:70677-20260203@rangeworthyparishcouncil.gov.uk
DTSTAMP:20260421T083201Z
DTSTART;VALUE=DATE:20260203
DTEND;VALUE=DATE:20260204
SUMMARY:Full Council Meeting
DESCRIPTION:Full Council Meeting\nView details: https://rangeworthyparishcouncil.gov.uk/meetings/full-council-meeting/
URL:https://rangeworthyparishcouncil.gov.uk/meetings/full-council-meeting/
END:VEVENT
END:VCALENDAR
