BEGIN:VCALENDAR
VERSION:2.0
PRODID:-//Rangeworthy Parish Council//Meeting Calendar//EN
CALSCALE:GREGORIAN
METHOD:PUBLISH
BEGIN:VEVENT
UID:70671-20260106@rangeworthyparishcouncil.gov.uk
DTSTAMP:20260421T082406Z
DTSTART;VALUE=DATE:20260106
DTEND;VALUE=DATE:20260107
SUMMARY:January Full Council 2026
DESCRIPTION:Full Council Meeting\nView details: https://rangeworthyparishcouncil.gov.uk/meetings/january-full-council-2026/
URL:https://rangeworthyparishcouncil.gov.uk/meetings/january-full-council-2026/
END:VEVENT
END:VCALENDAR
