BEGIN:VCALENDAR
VERSION:2.0
PRODID:-//Rangeworthy Parish Council//Meeting Calendar//EN
CALSCALE:GREGORIAN
METHOD:PUBLISH
BEGIN:VEVENT
UID:70662-20251202@rangeworthyparishcouncil.gov.uk
DTSTAMP:20260423T084720Z
DTSTART;VALUE=DATE:20251202
DTEND;VALUE=DATE:20251203
SUMMARY:Full Council December 2nd
DESCRIPTION:Full Council Meeting\nView details: https://rangeworthyparishcouncil.gov.uk/meetings/full-council-december-2nd/
URL:https://rangeworthyparishcouncil.gov.uk/meetings/full-council-december-2nd/
END:VEVENT
END:VCALENDAR
