BEGIN:VCALENDAR
VERSION:2.0
PRODID:-//Rangeworthy Parish Council//Meeting Calendar//EN
CALSCALE:GREGORIAN
METHOD:PUBLISH
BEGIN:VEVENT
UID:70641-20251007@rangeworthyparishcouncil.gov.uk
DTSTAMP:20260423T084557Z
DTSTART;VALUE=DATE:20251007
DTEND;VALUE=DATE:20251008
SUMMARY:October 7th Full Council Meeting
DESCRIPTION:Full Council Meeting\nView details: https://rangeworthyparishcouncil.gov.uk/meetings/meeting-name-here/
URL:https://rangeworthyparishcouncil.gov.uk/meetings/meeting-name-here/
END:VEVENT
END:VCALENDAR
