BEGIN:VCALENDAR
VERSION:2.0
PRODID:-//Rangeworthy Parish Council//Meeting Calendar//EN
CALSCALE:GREGORIAN
METHOD:PUBLISH
BEGIN:VEVENT
UID:70618-20250902@rangeworthyparishcouncil.gov.uk
DTSTAMP:20260423T084630Z
DTSTART;VALUE=DATE:20250902
DTEND;VALUE=DATE:20250903
SUMMARY:2nd September 2025 Full Council
DESCRIPTION:Full Council Meeting\nView details: https://rangeworthyparishcouncil.gov.uk/meetings/2nd-september-2025-full-council/
URL:https://rangeworthyparishcouncil.gov.uk/meetings/2nd-september-2025-full-council/
END:VEVENT
END:VCALENDAR
