BEGIN:VCALENDAR
VERSION:2.0
PRODID:-//Rangeworthy Parish Council//Meeting Calendar//EN
CALSCALE:GREGORIAN
METHOD:PUBLISH
BEGIN:VEVENT
UID:70575-20210101@rangeworthyparishcouncil.gov.uk
DTSTAMP:20260423T102704Z
DTSTART;VALUE=DATE:20210101
DTEND;VALUE=DATE:20210102
SUMMARY:Annual Parish Council Meeting &#8211\\; 2021
DESCRIPTION:Annual Parish Meeting\nView details: https://rangeworthyparishcouncil.gov.uk/meetings/annual-parish-council-meeting-2021/
URL:https://rangeworthyparishcouncil.gov.uk/meetings/annual-parish-council-meeting-2021/
END:VEVENT
END:VCALENDAR
