BEGIN:VCALENDAR
VERSION:2.0
PRODID:-//Rangeworthy Parish Council//Meeting Calendar//EN
CALSCALE:GREGORIAN
METHOD:PUBLISH
BEGIN:VEVENT
UID:70573-20220506@rangeworthyparishcouncil.gov.uk
DTSTAMP:20260423T102715Z
DTSTART;VALUE=DATE:20220506
DTEND;VALUE=DATE:20220507
SUMMARY:Annual Parish Council Meeting &#8211\\; 6 May 2022
DESCRIPTION:Annual Parish Meeting\nView details: https://rangeworthyparishcouncil.gov.uk/meetings/annual-parish-council-meeting-6-may-2022/
URL:https://rangeworthyparishcouncil.gov.uk/meetings/annual-parish-council-meeting-6-may-2022/
END:VEVENT
END:VCALENDAR
