BEGIN:VCALENDAR
VERSION:2.0
PRODID:-//Rangeworthy Parish Council//Meeting Calendar//EN
CALSCALE:GREGORIAN
METHOD:PUBLISH
BEGIN:VEVENT
UID:70571-20230418@rangeworthyparishcouncil.gov.uk
DTSTAMP:20260421T141642Z
DTSTART;VALUE=DATE:20230418
DTEND;VALUE=DATE:20230419
SUMMARY:Annual Parish Council Meeting &#8211\\; 18 April 2023
DESCRIPTION:Annual Parish Meeting\nView details: https://rangeworthyparishcouncil.gov.uk/meetings/annual-parish-council-meeting-18-april-2023/
URL:https://rangeworthyparishcouncil.gov.uk/meetings/annual-parish-council-meeting-18-april-2023/
END:VEVENT
END:VCALENDAR
