BEGIN:VCALENDAR
VERSION:2.0
PRODID:-//Rangeworthy Parish Council//Meeting Calendar//EN
CALSCALE:GREGORIAN
METHOD:PUBLISH
BEGIN:VEVENT
UID:70569-20240528@rangeworthyparishcouncil.gov.uk
DTSTAMP:20260423T084532Z
DTSTART;VALUE=DATE:20240528
DTEND;VALUE=DATE:20240529
SUMMARY:Annual Parish Council Meeting &#8211\\; 28 May 2024
DESCRIPTION:Annual Parish Meeting\nView details: https://rangeworthyparishcouncil.gov.uk/meetings/annual-parish-council-meeting-28-may-2024/
URL:https://rangeworthyparishcouncil.gov.uk/meetings/annual-parish-council-meeting-28-may-2024/
END:VEVENT
END:VCALENDAR
