BEGIN:VCALENDAR
VERSION:2.0
PRODID:-//Rangeworthy Parish Council//Meeting Calendar//EN
CALSCALE:GREGORIAN
METHOD:PUBLISH
BEGIN:VEVENT
UID:70567-20250516@rangeworthyparishcouncil.gov.uk
DTSTAMP:20260423T084557Z
DTSTART;VALUE=DATE:20250516
DTEND;VALUE=DATE:20250517
SUMMARY:Annual Parish Council Meeting &#8211\\; 16 May 2025
DESCRIPTION:Annual Parish Meeting\nView details: https://rangeworthyparishcouncil.gov.uk/meetings/annual-parish-council-meeting-16-may-2025/
URL:https://rangeworthyparishcouncil.gov.uk/meetings/annual-parish-council-meeting-16-may-2025/
END:VEVENT
END:VCALENDAR
