BEGIN:VCALENDAR
VERSION:2.0
PRODID:-//Rangeworthy Parish Council//Meeting Calendar//EN
CALSCALE:GREGORIAN
METHOD:PUBLISH
BEGIN:VEVENT
UID:70546-20220101@rangeworthyparishcouncil.gov.uk
DTSTAMP:20260423T102715Z
DTSTART;VALUE=DATE:20220101
DTEND;VALUE=DATE:20220102
SUMMARY:Parish Council Meeting &#8211\\; 2022
DESCRIPTION:Full Council Meeting\nView details: https://rangeworthyparishcouncil.gov.uk/meetings/parish-council-meeting-2022/
URL:https://rangeworthyparishcouncil.gov.uk/meetings/parish-council-meeting-2022/
END:VEVENT
END:VCALENDAR
