BEGIN:VCALENDAR
VERSION:2.0
PRODID:-//Rangeworthy Parish Council//Meeting Calendar//EN
CALSCALE:GREGORIAN
METHOD:PUBLISH
BEGIN:VEVENT
UID:70533-20230101@rangeworthyparishcouncil.gov.uk
DTSTAMP:20260423T102704Z
DTSTART;VALUE=DATE:20230101
DTEND;VALUE=DATE:20230102
SUMMARY:Parish Council &#8211\\; 2023
DESCRIPTION:Full Council Meeting\nView details: https://rangeworthyparishcouncil.gov.uk/meetings/parish-council-2023/
URL:https://rangeworthyparishcouncil.gov.uk/meetings/parish-council-2023/
END:VEVENT
END:VCALENDAR
