BEGIN:VCALENDAR
VERSION:2.0
PRODID:-//Rangeworthy Parish Council//Meeting Calendar//EN
CALSCALE:GREGORIAN
METHOD:PUBLISH
BEGIN:VEVENT
UID:70512-20250304@rangeworthyparishcouncil.gov.uk
DTSTAMP:20260423T084709Z
DTSTART;VALUE=DATE:20250304
DTEND;VALUE=DATE:20250305
SUMMARY:Parish Council Meeting &#8211\\; 4 March 2025
DESCRIPTION:Annual Parish Meeting\nView details: https://rangeworthyparishcouncil.gov.uk/meetings/parish-council-meeting-4-march-2025/
URL:https://rangeworthyparishcouncil.gov.uk/meetings/parish-council-meeting-4-march-2025/
END:VEVENT
END:VCALENDAR
