BEGIN:VCALENDAR
VERSION:2.0
PRODID:-//Rangeworthy Parish Council//Meeting Calendar//EN
CALSCALE:GREGORIAN
METHOD:PUBLISH
BEGIN:VEVENT
UID:70504-20250721@rangeworthyparishcouncil.gov.uk
DTSTAMP:20260423T102756Z
DTSTART;VALUE=DATE:20250721
DTEND;VALUE=DATE:20250722
SUMMARY:Parish Council Meeting &#8211\\; 21 July 2025
DESCRIPTION:Full Council Meeting\nView details: https://rangeworthyparishcouncil.gov.uk/meetings/parish-council-meeting-21-july-2025/
URL:https://rangeworthyparishcouncil.gov.uk/meetings/parish-council-meeting-21-july-2025/
END:VEVENT
END:VCALENDAR
